BEGIN:VCALENDAR
VERSION:2.0
CALSCALE:GREGORIAN
PRODID:adamgibbons/ics
METHOD:PUBLISH
X-PUBLISHED-TTL:PT1H
BEGIN:VEVENT
UID:817@www.carbondale.info
SUMMARY:Food Pantry
DTSTAMP:20260419T133931Z
DTSTART:20260401T153000Z
DTEND:20260401T170000Z
URL:https://www.carbondale.info/event/food-pantry-41
LOCATION:Victory Dream Center - Address 607 E College St
STATUS:CONFIRMED
CATEGORIES:Food,support
BEGIN:VALARM
ACTION:DISPLAY
DESCRIPTION:Food Pantry
TRIGGER:-PT1H
END:VALARM
END:VEVENT
END:VCALENDAR
